Workbook

Sheet заходи
A1: 2. МЕТА, ЗАВДАННЯ ТА ЗАХОДИ ЕКОНОМІЧНОГО І СОЦІАЛЬНОГО РОЗВИТКУ У 2024 РОЦІ
A3: № і назва завдання Стратегії розвитку Донецької області на період до 2027 року | B3: № з/п | C3: Зміст заходу | D3: Термін виконан- ня | E3: Виконавець | F3: Витрати на реалізацію, тис.грн | R3: Очікуваний результат | T3: Примітка виконання заходів, які не потребують фінансування
F4: Всього | H4: у тому числі за рахунок коштів:
H5: Держав- ного бюджету | J5: місцевих бюджетів | N5: підпри- ємств | P5: інших джерел | R5: найменування показника | S5: значення показника
J6: обласного бюджету | L6: районного бюджету, бюджету територіальної громади
F7: ПЛАН | G7: ФАКТ | H7: ПЛАН | I7: ФАКТ | J7: ПЛАН | K7: ФАКТ | L7: ПЛАН | M7: ФАКТ | N7: ПЛАН | O7: ФАКТ | P7: ПЛАН | Q7: ФАКТ
A8: 1 | B8: 2 | C8: 3 | D8: 4 | E8: 5 | F8: 6 | G8: 7 | H8: 8 | I8: 9 | J8: 10 | K8: 11 | L8: 12 | M8: 13 | N8: 14 | O8: 15 | P8: 16 | Q8: 17 | R8: 18 | S8: 19 | T8: 20
A9: Стратегічна ціль 1. Оновлена, конкурентоспроможна економіка
A10: 2.1. Агропромисловий комплекс
A11: Розвиток малого та середнього підприємництва, як драйверу структурних перетворень | B11: 1 | C11: Відзначення суб'єктів в сфері агропромислового виробництва з нагоди Дня працівників сільського господарства | D11: Протягом року | E11: Святогірська міська військова адміністрація | F11: 0 | H11: 0 | J11: 0 | L11: 0 | N11: 0 | P11: 0 | R11: кількість, суб’єктів | S11: 25 | T11: До департаменту АПК Донецької ОДА надано відомості про селянське (фермерське) господарство «Верес» як підприємство, яке досягло успіхів при вирощуванні та збиранні врожаю ранніх зернових та зернобобових культур у 2024 році - агронома господарства та двох механізаторів
B12: 2 | C12: Організція та проведення заходів із сприяння розвитку земельної реформи | D12: Протягом року | E12: Святогірська міська військова адміністрація | F12: 0 | H12: 0 | J12: 0 | L12: 0 | N12: 0 | P12: 0 | R12: Кількість заходів (од). Кількість поліграфічної продукції (од). | S12: 30
B13: 3 | C13: Стимулювання сільського населення до розвитку підприємницької діяльності шляхом проведення інформаційно-роз'яснювальної і консультативної роботи (друкована продукція, тренінги, індивідуальні послуги,семінари,конференції, наради) | D13: Протягом року | E13: Святогірська міська військова адміністрація | F13: 0 | H13: 0 | J13: 0 | L13: 0 | N13: 0 | P13: 0 | R13: Кількість заходів (од). Кількість слухачів (од). Кількість буклетів (шт). | S13: 5заходів/40 слухачів | T13: Розміщено на сайті міської ради інформацію щодо проведення кампанії та презентаційні матеріали вебінару «Про заходи з упередження отруєння бджіл засобами захисту рослин» також надано інформацію про надання державної допомоги для підтримки фермерських господарств та іншим виробників сільськогосподарської продукції. Виявлено 11 власників великої рогатої худоби (корів), які підпадають під дію цієї програми. Успішно подали таку заяву 10 власників корів. Отримали допомогу за програмою 9 домогосподарств на загальну суму 60000 грн..
C14: Всього | F14: =SUM(F11:F13) -> 0 | G14: =SUM(G11:G13) -> 0 | H14: =SUM(H11:H13) -> 0 | I14: =SUM(I11:I13) -> 0 | J14: =SUM(J11:J13) -> 0 | K14: =SUM(K11:K13) -> 0 | L14: =SUM(L11:L13) -> 0 | M14: =SUM(M11:M13) -> 0 | ... Q14: =SUM(Q11:Q13) -> 0
A15: 2.2 Розвиток земельних відносин
A16: Забезпечення просторового планування, містобудівної та інвестиційної діяльності в об’єднаних територіальних громадах | B16: 1 | C16: Інвентаризація земель комунальної власності Святогірської міської територіальної громади Краматорського району Донецької області | D16: Протягом року | E16: Святогірська міська рада | F16: 164 | G16: 160 | H16: 0 | J16: 0 | L16: 164 | M16: 160 | N16: 0 | P16: 0 | R16: Площа (га) | S16: 14,0 га | T16: Укладено договір з ПП «Терра-Віта» щодо виконання робіт з інвентаризації земельних ділянок комунальної власності Святогірської міської ради під кладовищами та під баштами Рожновського, Роботи виконані на 90%, але на кінець року акти з виконання робіт не підписані, кошти виконавцю робіт не перераховувались.
C17: Всього | F17: =SUM(F16:F16) -> 164 | G17: =SUM(G16:G16) -> 160 | H17: =SUM(H16:H16) -> 0 | I17: =SUM(I16:I16) -> 0 | J17: =SUM(J16:J16) -> 0 | K17: =SUM(K16:K16) -> 0 | L17: =SUM(L16:L16) -> 164 | M17: =SUM(M16:M16) -> 160 | ... Q17: =SUM(Q16:Q16) -> 0
A18: 2.3. Інвестиційна діяльність та розвиток інфраструктури, благоустрій
A19: Підтримка галузей з економічним та інноваційним потенціалом для розвитку | B19: 1 | C19: Моніторинг пропозицій та конкурсів програм та проєктів, спрямованих на місцевий економічний розвиток, сприяння участі у конкурсах інвестиційних проєктів | D19: Протягом року | E19: Святогірська міська рада | F19: 0 | H19: 0 | J19: 0 | L19: 0 | N19: 0 | P19: 0 | R19: Подано заявок для участі у конкурсах, од. | S19: 15
B20: 2 | C20: Інформаційно-консультаційна підтримка суб'єктів господарюваня, громадських організацій | D20: Протягом року | E20: Святогірська міська рада | F20: 0 | H20: 0 | J20: 0 | L20: 0 | N20: 0 | P20: 0 | R20: Публікації, статті, індивідуальні консультації, од. | S20: 50
A21: Формування позитивного іміджу регіону | B21: 3 | C21: Спрощення доступу для потенційних інвесторів до інформації про інвестиційні можливості громади шляхом оновлення та розповсюдження Інвестиційного паспорту міста, Каталогу інвестиційних пропозицій | D21: Протягом року | E21: Святогірська міська рада | F21: 0 | H21: 0 | J21: 0 | L21: 0 | N21: 0 | P21: 0 | R21: Розміщено на міських, обласних, державних он-лайн платформах, од. | S21: 10
A22: Розвиток та ефективне використання науково-інноваційного потенціалу | B22: 4 | C22: Участь у навчальних Заходах (навчальні поїздки, тренінги) та Заходах з обміну досвідом (співпраця з іншими громадами, громадськістю) працівників виконавчих органів ради, громадських організацій, представників бізнесу з метою впровадження ефективних економічних стратегій та підвищення інвестиційного іміджу громади | D22: Протягом року | E22: Святогірської міської ради, представники комунальних підприємств міста, представники підприємств експортерів, малого та середнього бізнесу | F22: 0 | H22: 0 | J22: 0 | L22: 0 | N22: 0 | P22: 0 | R22: Участь у тренінгах, засіданнях, конференціях, од. | S22: 30
B23: 5 | C23: Забезпечення зберігання документів соціально правового порядку, що належить до КП Краматорської районної ради "Трудовий архів" | D23: Протягом року | E23: Святогірська міська рада | F23: 69.1 | G23: 69.1 | H23: 0 | J23: 0 | L23: 69.1 | M23: 69.1 | N23: 0 | P23: 0 | R23: Забезпечення зберіганню архівних документів | S23: 1008 справ
B24: 6 | C24: Фінансове забезпечення виконання Постанов КМУ від 25 квітня 2023 року №391 "Деякі питання оплати праці працівників державних органів та органів місцевого самоврядування під час воєнного стану" та від 09 листопада 2016 р. №787 "Про видатки на оплату праці працівників місцевих державних адміністрацій" (зі змінами) Краматорської районної державної адміністрації, районної військової адміністрації на 2024 рік | D24: Протягом року | E24: Святогірська міська рада | F24: 200 | G24: 200 | H24: 0 | J24: 0 | L24: 200 | M24: 200 | N24: 0 | P24: 0
B25: 7 | C25: Судові витрати | D25: Протягом року | E25: Святогірська міська рада | F25: 7.4 | G25: 4.495 | H25: 0 | J25: 0 | L25: 7.4 | M25: 4.495 | N25: 0 | P25: 0
B26: 8 | C26: Підтримка функціонування дитячого будинку сімейного типу Сербіних в частині забезпечення відповідно до законодавства автомобільним транспортом, шляхом передачі у безоплатне користування за договором, який укладається між батьками-вихователями та Святогірською міською радою Краматорського району Донецької області на період діяльності дитячого будинку сімейного типу, тому числі: | D26: Протягом року | E26: Святогірської міської ради | F26: 2000 | G26: 2000 | J26: 2000 | K26: 2000 | R26: кількість автотранспортних засобів | S26: 1
C27: забезпечення реєстрації транспортного засобу з видачою свідоцтва про реєстрацію та номерних знаків, в тому числі сплата збору на обов’язкове державне пенсійне страхування при першій державній реєстрації легкових транспортних засобів | D27: Протягом року | E27: Святогірської міської ради | F27: 101.186 | G27: 84.323 | J27: 101.186 | K27: 84.323 | R27: збір на обов’язкове державне пенсійне страхування | S27: 5 відсотків
C28: Всього | F28: =SUM(F19:F27) -> 2377.686 | G28: =SUM(G19:G27) -> 2357.918 | H28: =SUM(H19:H27) -> 0 | I28: =SUM(I19:I27) -> 0 | J28: =SUM(J19:J27) -> 2101.186 | K28: =SUM(K19:K27) -> 2084.323 | L28: =SUM(L19:L27) -> 276.5 | M28: =SUM(M19:M27) -> 273.595 | ... Q28: =SUM(Q19:Q27) -> 0
A29: 2.4. Розвиток інформаційного простору. Забезпечення доступу до неупереджених джерел інформації
A30: Впровадження інформаційних технологій у сфері надання послуг населенню | B30: 1 | C30: Висвітлення напрямків роботи Святогірської військової адміністрації та органів місцевого самоврядування через соціальні мережі Інтернет та засоби масової інформації | D30: Протягом року | E30: Сектор інформаційної діяльності, комунікацій з громадськістю та з питань реінтеграції тимчасово неконтрольованих територій | F30: 0 | H30: 0 | J30: 0 | L30: 0 | N30: 0 | P30: 0 | R30: Обізнаність та проінформованість громадян міста щодо діяльності Святогірської міської ради, осіб | S30: Близько 15000 | T30: Систематично висвітлюється напрямки роботи Святогірської МВА на офіційнй сторінці у мережі Фейсбук, охоплено 66.8 тис читачів
A31: Інші завдання: Забезпечення обізнаності населення щодо переваг євроінтеграції | B31: 2 | C31: Проведення брифінгів, круглих столів, інформаційних заходів з актуальних й поточних питань | D31: Протягом року | E31: Сектор інформаційної діяльності, комунікацій з громадськістю та з питань реінтеграції тимчасово неконтрольованих територій | F31: 0 | H31: 0 | J31: 0 | L31: 0 | N31: 0 | P31: 0 | R31: Інформаційні заходи, од. | S31: 2
B32: 3 | C32: Виготовлення відеороликів для розміщення в соціальних мережах інтернет, інформаційне наповнення сторінок СМВА у соціальних мережах щодо воєнної, соціальної-політичної, соціально-економічної, культурної ситуації у громаді, області та державі в цілому | D32: Протягом року | E32: Сектор інформаційної діяльності, комунікацій з громадськістю та з питань реінтеграції тимчасово неконтрольованих територій | F32: 0 | H32: 0 | J32: 0 | L32: 0 | N32: 0 | P32: 0 | R32: Кількість виготовлених відеороліків, од. | S32: 90 | T32: Систематично проводиться інформаційне наповнення сторінок СМВА у соціальних мережах щодо воєнної, соціальної-політичної, соціально-економічної, культурної ситуації у громаді, області та державі в цілому
B33: 4 | C33: Співпраця із засобами масової інформації різних форм власності, забезпечення комунікативної політики СМВА та громадськості | D33: Протягом року | E33: Сектор інформаційної діяльності, комунікацій з громадськістю та з питань реінтеграції тимчасово неконтрольованих територій | F33: 0 | H33: 0 | J33: 0 | L33: 0 | N33: 0 | P33: 0 | R33: Кількість заходів | T33: Співпраця із засобами масової інформації різних форм власності, забезпечення комунікативної політики СМВА та громадськості відбувається постійно
B34: 5 | C34: Забезпечення комунікації з населенням громади через засоби масової інформації та мережу Інтернет | D34: Протягом року | E34: Сектор інформаційної діяльності, комунікацій з громадськістю та з питань реінтеграції тимчасово неконтрольованих територій | F34: 0 | H34: 0 | J34: 0 | L34: 0 | N34: 0 | P34: 0 | R34: Кількість заходів | S34: 1 | T34: Комунікації з населенням громади відбувається через мережу Інтернет: вайбер, ватсап, телеграм
B35: 6 | C35: Створення та супроводження нового офіційного сайту Святогірської міської ради | D35: Протягом року | E35: Святогірська міська рада | F35: 18 | G35: 18 | H35: 0 | J35: 0 | L35: 18 | M35: 18 | N35: 0 | P35: 0 | R35: Створено новий офіційний сайт Святогірської міської ради, од. | S35: 1
C36: Всього | F36: =SUM(F30:F35) -> 18 | G36: =SUM(G30:G35) -> 18 | H36: =SUM(H30:H35) -> 0 | I36: =SUM(I30:I35) -> 0 | J36: =SUM(J30:J35) -> 0 | K36: =SUM(K30:K35) -> 0 | L36: =SUM(L30:L35) -> 18 | M36: =SUM(M30:M35) -> 18 | ... Q36: =SUM(Q30:Q35) -> 0
A37: 2.5. Ринок праці. Зайнятість населення
A38: Зменшення диспропорцій між попитом та пропозицією робочої сили | B38: 1 | C38: Сприяння повній і продуктивній зайнятості та гідній праці для всіх жінок і чоловіків, осіб з інвалідністю | D38: Протягом року | E38: Міський центр зайнятості | F38: =SUM(H38:P38) -> 0 | H38: 0 | J38: 0 | L38: 0 | N38: 0 | P38: 0 | R38: Працевлаштування за сприянням служби зайнятості | S38: 145 | T38: трудоустроино 32 особи, із них 17 безробітних
B39: 2 | C39: Здійснення компенсації роботодавцю єдиного внеску за працевлаштованих безробітних на нові робочі місця* | D39: Протягом року | E39: Міський центр зайнятості | F39: =SUM(H39:P39) -> 0 | H39: 0 | J39: 0 | L39: 0 | N39: 0 | P39: 0 | R39: Працевлаштовано з компенсацією роботодавцю єдиного внеску | S39: 1
B40: 3 | C40: Стимулювання розвитку ініціатив мікробізнесу та самозайнятості безробітних шляхом надання одноразової виплати допомоги по безробіттю* | D40: Протягом року | E40: Міський центр зайнятості | F40: =SUM(H40:P40) -> 0 | H40: 0 | J40: 0 | L40: 0 | N40: 0 | P40: 0 | R40: Кількість безробітних, які отримали одноразову виплату допомоги по безробіттю для зайняття підприємницькою діяльністю | S40: 0
B41: 4 | C41: Діяльність Консалтингового простору "Перспектива" у центрі зайнятості. Системна інформаційно-консультаційна робота з активізації та підтримки підприємницької ініціативи шляхом проведення тренінгів, семінарів, круглих столів та інших тематичних заходів щодо можливості організації та розширення власної справи | D41: Протягом року | E41: Міський центр зайнятості | F41: =SUM(H41:P41) -> 0 | H41: 0 | J41: 0 | L41: 0 | N41: 0 | P41: 0 | R41: Засідання Консалтингового простору "Перспектива", проведення тренінгів, семінарів, круглих столів та інших тематичних заходів щодо можливості організації та розширення власної справи | S41: 50 | T41: проведено 4 заходи, із них 1 виїздний дє було провдена консультація з представники Ощадбанком, ГУ ПФУ в Донецькій області, ДПС в Донецькій області, БФ "Право на захист",
...

Sheet Фінансове забезпечення
A2: 3. ДЖЕРЕЛА ТА ОБСЯГИ ФІНАНСУВАННЯ ПРОГРАМИ У 2024 РОЦІ
A3: 3.1 Фінансове забезпечення заходів Програми
M4: тис. грн.
A6: Напрями реалізації заходів | B6: Кількість заходів | C6: Витрати на реалізацію
C7: Всього | E7: у тому числі за рахунок коштів:
E8: Державного бюджету | G8: місцевих бюджетів | K8: підприємств | M8: інших джерел
G9: обласного бюджету | I9: бюджету територіальної громади
C10: ПЛАН | D10: ФАКТ | E10: ПЛАН | F10: ФАКТ | G10: ПЛАН | H10: ФАКТ | I10: ПЛАН | J10: ФАКТ | K10: ПЛАН | L10: ФАКТ | M10: ПЛАН | N10: ФАКТ
A11: 1 | B11: 2 | C11: 3 | D11: 4 | E11: 5 | F11: 6 | G11: 7 | H11: 8 | I11: 9 | J11: 10 | K11: 11 | L11: 12 | M11: 13 | N11: 14
A12: 1. Агропромисловий комплекс | B12: 3 | C12: =заходи!F14 -> 0 | D12: =заходи!G14 -> 0 | E12: =SUM(заходи!H14) -> 0 | F12: =заходи!I14 -> 0 | G12: =заходи!J14 -> 0 | H12: =заходи!K14 -> 0 | I12: =заходи!L14 -> 0 | J12: =заходи!M14 -> 0 | K12: =заходи!N14 -> 0 | L12: =заходи!O14 -> 0 | M12: =заходи!P14 -> 0 | N12: =заходи!Q14 -> 0
A13: 2. Розвиток земельних відносин | B13: 1 | C13: =заходи!F17 -> 164 | D13: =заходи!G17 -> 160 | E13: =заходи!H17 -> 0 | F13: =заходи!I17 -> 0 | G13: =заходи!J17 -> 0 | H13: =заходи!K17 -> 0 | I13: =заходи!L17 -> 164 | J13: =заходи!M17 -> 160 | ... N13: =заходи!Q17 -> 0
A14: 3. Інвестиційна діяльність та розвиток інфраструктури, благоустрій | B14: 8 | C14: =заходи!F28 -> 2377.686 | D14: =заходи!G28 -> 2357.918 | E14: =заходи!H28 -> 0 | F14: =заходи!I28 -> 0 | G14: =заходи!J28 -> 2101.186 | H14: =заходи!K28 -> 2084.323 | I14: =заходи!L28 -> 276.5 | J14: =заходи!M28 -> 273.595 | ... N14: =заходи!Q28 -> 0
A15: 4. Розвиток інформаційного простору. Забезпечення доступу до неупереджених джерел інформації | B15: 6 | C15: =заходи!F36 -> 18 | D15: =заходи!G36 -> 18 | E15: =заходи!H36 -> 0 | F15: =заходи!I36 -> 0 | G15: =заходи!J36 -> 0 | H15: =заходи!K36 -> 0 | I15: =заходи!L36 -> 18 | J15: =заходи!M36 -> 18 | ... N15: =заходи!Q36 -> 0
A16: 5. Ринок праці. Зайнятість населення | B16: 13 | C16: =заходи!F37 -> 0 | D16: =заходи!G51 -> 0 | E16: =заходи!H37 -> 0 | F16: =заходи!I51 -> 0 | G16: =заходи!J37 -> 0 | H16: =заходи!K51 -> 0 | I16: =заходи!L37 -> 0 | J16: =заходи!M51 -> 0 | K16: =заходи!N37 -> 0 | L16: =заходи!O51 -> 0 | M16: =заходи!P37 -> 0 | N16: =заходи!Q51 -> 0
A17: 6. Освіта | B17: 22 | C17: =заходи!F77 -> 10757.851 | D17: =заходи!G77 -> 1209.564 | E17: =заходи!H77 -> 277.838 | F17: =заходи!I77 -> 277.837 | G17: =заходи!J77 -> 540 | H17: =заходи!K77 -> 0 | I17: =заходи!L77 -> 9940.013 | J17: =заходи!M77 -> 931.727 | ... N17: =заходи!Q77 -> 0
A18: 7. Підтримка сім'ї, дітей та молоді | B18: 26 | C18: =заходи!F105 -> 86 | D18: =заходи!G105 -> 0 | E18: =заходи!H105 -> 0 | F18: =заходи!I105 -> 0 | G18: =заходи!J105 -> 0 | H18: =заходи!K105 -> 0 | I18: =заходи!L105 -> 81 | J18: =заходи!M105 -> 0 | ... N18: =заходи!Q105 -> 0
A19: 8. Охорона здоров'я | B19: 39 | C19: =заходи!F151 -> 2798.595 | D19: =заходи!G151 -> 901.666 | E19: =заходи!H151 -> 141 | F19: =заходи!I151 -> 0 | G19: =заходи!J151 -> 0 | H19: =заходи!K151 -> 0 | I19: =заходи!L151 -> 2657.595 | J19: =заходи!M151 -> 901.666 | ... N19: =заходи!Q151 -> 0
A20: 9. Фізичне виховання та спорт | B20: 2 | C20: =заходи!F155 -> 10 | D20: =заходи!G155 -> 0 | E20: =заходи!H155 -> 0 | F20: =заходи!I155 -> 0 | G20: =заходи!J155 -> 0 | H20: =заходи!K155 -> 0 | I20: =заходи!L155 -> 10 | J20: =заходи!M155 -> 0 | ... N20: =заходи!Q155 -> 0
A21: 10. Культура і туризм | B21: 8 | C21: =заходи!F165 -> 880 | D21: =заходи!G165 -> 20.85 | E21: =заходи!H165 -> 0 | F21: =заходи!I165 -> 0 | G21: =заходи!J165 -> 0 | H21: =заходи!K165 -> 0 | I21: =заходи!L165 -> 880 | J21: =заходи!M165 -> 20.85 | ... N21: =заходи!Q165 -> 0
A22: 11. Захист населення і території від надзвичайних ситуацій | B22: 18 | C22: =заходи!F186 -> 23496.463 | D22: =заходи!G186 -> 21378.993 | E22: =заходи!H186 -> 18077.147 | F22: =заходи!I186 -> 17972.68 | G22: =заходи!J186 -> 0 | H22: =заходи!K186 -> 0 | I22: =заходи!L186 -> 5419.316 | J22: =заходи!M186 -> 3406.323 | ... N22: =заходи!Q186 -> 0
A23: 12. Соціальний захист населення | B23: 14 | C23: =заходи!F209 -> 3792.32 | D23: =заходи!G209 -> 2834.658 | E23: =заходи!H209 -> 0 | F23: =заходи!I209 -> 15.08 | G23: =заходи!J209 -> 0 | H23: =заходи!K209 -> 169.08 | I23: =заходи!L209 -> 3759.32 | J23: =заходи!M209 -> 2650.498 | ... N23: =заходи!Q209 -> 0
A24: 13. Захист прав дітей-сиріт та дітей, позбавлених батьківського піклування | B24: 3 | C24: =заходи!F214 -> 20 | D24: =заходи!G214 -> 0 | E24: =заходи!H214 -> 0 | F24: =заходи!I214 -> 0 | G24: =заходи!J214 -> 0 | H24: =заходи!K214 -> 0 | I24: =заходи!L214 -> 20 | J24: =заходи!M214 -> 0 | ... N24: =заходи!Q214 -> 0
A25: 14. Житлове господарство та комунальна інфраструктура | B25: 13 | C25: =заходи!F229 -> 11955.568 | D25: =заходи!G229 -> 11587.244 | E25: =заходи!H229 -> 0 | F25: =заходи!I229 -> 0 | G25: =заходи!J229 -> 0 | H25: =заходи!K229 -> 0 | I25: =заходи!L229 -> 11955.568 | J25: =заходи!M229 -> 11587.244 | ... N25: =заходи!Q229 -> 0
A26: 15. Заходи, пов'язані з наслідками військової агресії Російської Федерації на території області. Підтримка внутрішньо переміщених осіб | B26: 10 | C26: =заходи!F241 -> 299.9 | D26: =заходи!G241 -> 149.77 | E26: =заходи!H241 -> 0 | F26: =заходи!I241 -> 0 | G26: =заходи!J241 -> 50 | H26: =заходи!K241 -> 50 | I26: =заходи!L241 -> 249.9 | J26: =заходи!M241 -> 99.77 | ... N26: =заходи!Q241 -> 0
A27: 16. Впровадження заходів територіального планування | B27: 4 | C27: =заходи!F247 -> 0 | D27: =заходи!G247 -> 0 | E27: =заходи!H247 -> 0 | F27: =заходи!I247 -> 0 | G27: =заходи!J247 -> 0 | H27: =заходи!K247 -> 0 | I27: =заходи!L247 -> 0 | J27: =заходи!M247 -> 0 | ... N27: =заходи!Q247 -> 0
A28: 17. Охорона навколишнього середовища | B28: 2 | C28: =заходи!F252 -> 5199.41 | D28: =заходи!G252 -> 2377.166 | E28: =заходи!H252 -> 0 | F28: =заходи!I252 -> 0 | G28: =заходи!J252 -> 4926.41 | H28: =заходи!K252 -> 2377.166 | I28: =заходи!L252 -> 273 | J28: =заходи!M252 -> 0 | ... N28: =заходи!Q252 -> 0
A29: РАЗОМ | B29: =SUM(B12:B28) -> 192 | C29: =SUM(C12:C28) -> 61855.793 | D29: =SUM(D12:D28) -> 42995.829 | E29: =SUM(E12:E28) -> 18495.985 | F29: =SUM(F12:F28) -> 18265.597 | G29: =SUM(G12:G28) -> 7617.596 | H29: =SUM(H12:H28) -> 4680.569 | I29: =SUM(I12:I28) -> 35704.212 | ... N29: =SUM(N12:N28) -> 0
