Workbook

Sheet заходи
A1: Додаток 2 до листа
A2: 2. МЕТА, ЗАВДАННЯ ТА ЗАХОДИ ЕКОНОМІЧНОГО І СОЦІАЛЬНОГО РОЗВИТКУ У 2025 РОЦІ
A3: № і назва завдання Стратегії розвитку Донецької області на період до 2027 року | B3: № з/п | C3: Зміст заходу | D3: Термін виконан- ня | E3: Виконавець | F3: Витрати на реалізацію, тис.грн | R3: Очікуваний результат
F4: Всього | H4: у тому числі за рахунок коштів:
H5: Держав- ного бюджету | J5: місцевих бюджетів | N5: підпри- ємств | P5: інших джерел | R5: найменування показника | S5: значення показника
J6: обласного бюджету | L6: районного бюджету, бюджету територіальної громади
F7: ПЛАН | G7: ФАКТ | H7: ПЛАН | I7: ФАКТ | J7: ПЛАН | K7: ФАКТ | L7: ПЛАН | M7: ФАКТ | N7: ПЛАН | O7: ФАКТ | P7: ПЛАН | Q7: ФАКТ
A8: 1 | B8: 2 | C8: 3 | D8: 4 | E8: 5 | F8: 6 | G8: 7 | H8: 8 | I8: 9 | J8: 10 | K8: 11 | L8: 12 | M8: 13 | N8: 14 | O8: 15 | P8: 16 | Q8: 17 | R8: 12 | S8: 13
A9: Стратегічна ціль 1. Оновлена, конкурентоспроможна економіка
A10: 2.1. Агропромисловий комплекс
A11: Розвиток малого та середнього підприємництва, як драйверу структурних перетворень | B11: 1 | C11: Відзначення суб'єктів в сфері агропромислового виробництва з нагоди Дня працівників сільського господарства | D11: Протягом року | E11: Святогірська міська військова адміністрація | F11: 0 | H11: 0 | J11: 0 | L11: 0 | N11: 0 | P11: 0 | R11: кількість, суб’єктів | S11: 20
B12: 2 | C12: Організція та проведення заходів із сприяння розвитку земельної реформи | D12: Протягом року | E12: Святогірська міська військова адміністрація | F12: 0 | H12: 0 | J12: 0 | L12: 0 | N12: 0 | P12: 0 | R12: Кількість заходів (од). Кількість поліграфічної продукції (од). | S12: 20
B13: 3 | C13: Стимулювання сільського населення до розвитку підприємницької діяльності шляхом проведення інформаційно-роз'яснювальної і консультативної роботи (друкована продукція, тренінги, індивідуальні послуги,семінари,конференції, наради) | D13: Протягом року | E13: Святогірська міська військова адміністрація | F13: 0 | H13: 0 | J13: 0 | L13: 0 | N13: 0 | P13: 0 | R13: Кількість заходів (од). Кількість слухачів (од). Кількість буклетів (шт). | S13: 20
C14: Всього | F14: =SUM(F11:F13) -> 0 | H14: =SUM(H11:H13) -> 0 | J14: =SUM(J11:J13) -> 0 | L14: =SUM(L11:L13) -> 0 | N14: =SUM(N11:N13) -> 0 | P14: =SUM(P11:P13) -> 0
A15: 2.2 Розвиток земельних відносин
A16: Розвиток системи просторового планування з використанням електронних ресурсів | B16: 1 | C16: Проведення заходів з інвентаризації земель комунальної власності Святогірської міської територіальної громади | D16: Протягом року | E16: Святогірська міська рада | F16: 100 | G16: 20 | H16: 0 | J16: 0 | L16: 100 | M16: 20 | N16: 0 | P16: 0 | R16: Площа (га) | S16: 3379,0 га
B17: 2 | C17: Розробка документації с земелеустрою для передачі земельних ділянок у власність або користування | D17: Протягом року | E17: Святогірська міська рада | F17: 100 | G17: 60 | H17: 0 | J17: 0 | L17: 0 | N17: 0 | P17: 100 | Q17: 60 | R17: Кількість земельних ділянок, одиниць Площа, га | S17: проект землеустрою, технічна документація -10 шт
C18: Всього | F18: =SUM(F16:F17) -> 200 | G18: =SUM(G16:G17) -> 80 | H18: =SUM(H16:H17) -> 0 | J18: =SUM(J16:J17) -> 0 | L18: =SUM(L16:L17) -> 100 | M18: 20 | N18: =SUM(N16:N17) -> 0 | P18: =SUM(P16:P17) -> 100 | Q18: =SUM(Q16:Q17) -> 60
A19: 2.3. Інвестиційна діяльність та розвиток інфраструктури
B20: 1 | C20: Інформаційно-консультаційна підтримка суб'єктів господарюваня, громадських організацій | D20: Протягом року | E20: Святогірська міська рада | F20: 0 | H20: 0 | J20: 0 | L20: 0 | N20: 0 | P20: 0 | R20: Публікації, статті, індивідуальні консультації, од. | S20: 50
A21: Формування позитивного іміджу регіону | B21: 2 | C21: Спрощення доступу для потенційних інвесторів до інформації про інвестиційні можливості громади шляхом оновлення та розповсюдження Інвестиційного паспорту міста, Каталогу інвестиційних пропозицій | D21: Протягом року | E21: Святогірська міська рада | F21: 0 | H21: 0 | J21: 0 | L21: 0 | N21: 0 | P21: 0 | R21: Розміщено на міських, обласних, державних он-лайн платформах, од. | S21: 10
A22: Розвиток та ефективне використання науково-інноваційного потенціалу | B22: 3 | C22: Участь у навчальних Заходах (навчальні поїздки, тренінги) та Заходах з обміну досвідом (співпраця з іншими громадами, громадськістю) працівників виконавчих органів ради, громадських організацій, представників бізнесу з метою впровадження ефективних економічних стратегій та підвищення інвестиційного іміджу громади | D22: Протягом року | E22: Святогірська міська військова адміністрація, Святогірська міська рада, представники комунальних підприємств міста, представники підприємств експортерів, малого та середнього бізнесу | F22: 0 | H22: 0 | J22: 0 | L22: 0 | N22: 0 | P22: 0 | R22: Участь у тренінгах, засіданнях, конференціях, од. | S22: 30
B23: 4 | C23: Забезпечення зберігання документів соціально правового порядку, що належить до КП Краматорської районної ради "Трудовий архів" | D23: Протягом року | E23: Святогірська міська рада | F23: 69.1 | G23: 60.4 | H23: 0 | J23: 0 | L23: 69.1 | M23: 60.4 | N23: 0 | P23: 0 | R23: Забезпечення зберіганню архівних документів | S23: 1008 справ
B24: 5 | C24: Судові витрати | D24: Протягом року | E24: Святогірська міська рада | F24: 20 | G24: 0.6 | H24: 0 | J24: 0 | L24: 20 | M24: 0.6 | N24: 0 | P24: 0 | R24: забезпечення витрат
A25: Інші завдання: Фінансове забезпечення виконання заходу № 3 Розділу 2.21.Розвиток району та територіальних громад району пов'язаних з виконанням постанов КМУ від 25 квітня 2023 року № 391 "Деякі питання оплати праці працівників державних органів та органів місцевого самоврядування під час воєнного стану" та від 9 листопада 2016р. №787 "Про видатки на оплату праці працівників місцевих державних адміністрації" (зі змінами). (Кошти дотації з бюджетів територіальних громад Краматорського району в районний бюджет. Головний розпорядник коштів - фінансове управління Краматорськлої районної державної адміністрації, районної військової адміністрації.) | B25: 6 | C25: Забезпечення реалізації виконання Постанов КМУ від 25 квітня 2023 року № 391"Деякі питання оплати праці працівників державних органів та органів місцевого самоврядування під час воєнного стану" та від 9 листопада 2016 р. №787 "Про видатки на оплату праці працівників місцевих державних адміністрації" (зі змінами) Краматорською районною державною адміністрацією, районною військовою адміністрацією та її структурними підрозділами. | D25: Протягом року | E25: Святогірська міська рада | F25: 200 | G25: 200 | H25: 0 | J25: 0 | L25: 200 | M25: 200 | N25: 0 | P25: 0 | R25: Забезпечення покращення фінансової бази апарату та структурних підрозділів районної державної адміністрації для виконання делегованих законами України повноважень органів місцевого амоврядування щодо забезпечення державної політики в бюджетній і соціальній сфері та реалізації заходів соціально-економічного розвитку району; забезпечення належних умов для виконання службових обов’язків
C26: Всього | F26: =SUM(F20:F25) -> 289.1 | G26: =SUM(G20:G25) -> 261 | H26: =SUM(H20:H25) -> 0 | I26: =SUM(I20:I25) -> 0 | J26: =SUM(J20:J25) -> 0 | K26: =SUM(K20:K25) -> 0 | L26: =SUM(L20:L25) -> 289.1 | M26: =SUM(M20:M25) -> 261 | ... Q26: =SUM(Q20:Q25) -> 0
A27: 2.4. Розвиток інформаційного простору. Забезпечення доступу до неупереджених джерел інформації
A28: Впровадження інформаційних технологій у сфері надання послуг населенню | B28: 1 | C28: Висвітлення напрямків роботи Святогірської військової адміністрації та органів місцевого самоврядування через соціальні мережі Інтернет та засоби масової інформації | D28: Протягом року | E28: Сектор інформаційної діяльності, комунікацій з громадськістю та з питань реінтеграції тимчасово неконтрольованих територій | F28: 0 | H28: 0 | J28: 0 | L28: 0 | N28: 0 | P28: 0 | R28: Обізнаність та проінформованість громадян міста щодо діяльності Святогірської міської ради, осіб | S28: Близько 15000
A29: Інші завдання: Забезпечення обізнаності населення щодо переваг євроінтеграції | B29: 2 | C29: Проведення брифінгів, круглих столів, інформаційних заходів з актуальних й поточних питань | D29: Протягом року | E29: Сектор інформаційної діяльності, комунікацій з громадськістю та з питань реінтеграції тимчасово неконтрольованих територій | F29: 0 | H29: 0 | J29: 0 | L29: 0 | N29: 0 | P29: 0 | R29: Інформаційні заходи, од. | S29: 2
B30: 3 | C30: Виготовлення відеороликів для розміщення в соціальних мережах інтернет, інформаційне наповнення сторінок СМВА у соціальних мережах щодо воєнної, соціальної-політичної, соціально-економічної, культурної ситуації у громаді, області та державі в цілому | D30: Протягом року | E30: Сектор інформаційної діяльності, комунікацій з громадськістю та з питань реінтеграції тимчасово неконтрольованих територій | F30: 0 | H30: 0 | J30: 0 | L30: 0 | N30: 0 | P30: 0 | R30: Кількість виготовлених відеороліків, од. | S30: 90
B31: 4 | C31: Співпраця із засобами масової інформації різних форм власності, забезпечення комунікативної політики СМВА та громадськості | D31: Протягом року | E31: Сектор інформаційної діяльності, комунікацій з громадськістю та з питань реінтеграції тимчасово неконтрольованих територій | F31: 0 | H31: 0 | J31: 0 | L31: 0 | N31: 0 | P31: 0 | R31: Кількість заходів
B32: 5 | C32: Модернізація та покращення роботи офіційного сайту громади, посилення кіберзахисту, додавання нових функцій | D32: Протягом року | E32: Святогірська міська рада | F32: 10 | H32: 0 | J32: 0 | L32: 10 | N32: 0 | P32: 0 | R32: захист та покращення роботи офіційного сайту Святогірської міської ради, од. | S32: 1
C33: Всього | F33: =SUM(F28:F32) -> 10 | H33: =SUM(H28:H32) -> 0 | J33: =SUM(J28:J32) -> 0 | L33: =SUM(L28:L32) -> 10 | N33: =SUM(N28:N32) -> 0 | P33: =SUM(P28:P32) -> 0
A34: 2.5. Ринок праці. Зайнятість населення
A35: Зменшення диспропорцій між попитом та пропозицією робочої сили | B35: 1 | C35: Сприяння повній і продуктивній зайнятості та гідній праці для всіх жінок і чоловіків, осіб з інвалідністю | D35: Протягом року | E35: Міський центр зайнятості | F35: =SUM(H35:P35) -> 0 | H35: 0 | J35: 0 | L35: 0 | N35: 0 | P35: 0 | R35: Працевлаштування за сприянням служби зайнятості | S35: 65
B36: 2 | C36: Здійснення компенсації роботодавцю єдиного внеску за працевлаштованих безробітних на нові робочі місця* | D36: Протягом року | E36: Міський центр зайнятості | F36: =SUM(H36:P36) -> 0 | H36: 0 | J36: 0 | L36: 0 | N36: 0 | P36: 0 | R36: Працевлаштовано з компенсацією роботодавцю єдиного внеску | S36: 2
B37: 3 | C37: Стимулювання розвитку ініціатив мікробізнесу та самозайнятості безробітних шляхом надання одноразової виплати допомоги по безробіттю* | D37: Протягом року | E37: Міський центр зайнятості | F37: =SUM(H37:P37) -> 0 | H37: 0 | J37: 0 | L37: 0 | N37: 0 | P37: 0 | R37: Кількість безробітних, які отримали одноразову виплату допомоги по безробіттю для зайняття підприємницькою діяльністю | S37: 0
B38: 4 | C38: Діяльність Консалтингового простору "Перспектива" у центрі зайнятості. Системна інформаційно-консультаційна робота з активізації та підтримки підприємницької ініціативи шляхом проведення тренінгів, семінарів, круглих столів та інших тематичних заходів щодо можливості організації та розширення власної справи | D38: Протягом року | E38: Міський центр зайнятості | F38: =SUM(H38:P38) -> 0 | H38: 0 | J38: 0 | L38: 0 | N38: 0 | P38: 0 | R38: Засідання Консалтингового простору "Перспектива", проведення тренінгів, семінарів, круглих столів та інших тематичних заходів щодо можливості організації та розширення власної справи | S38: 50
B39: 5 | C39: Залучення незайнятих громадян до участі в громадських роботах та інших роботах тимчасового характеру* | D39: Протягом року | E39: Міський центр зайнятості, місцеві бюджети, роботодавці | F39: =SUM(H39:P39) -> 0 | H39: 0 | J39: 0 | L39: 0 | N39: 0 | P39: 0 | R39: Тимчасова зайнятість безробітних осіб з числа тих, які будуть перебувати на обліку в міському центрі зайнятості | S39: 20
B40: 6 | C40: Сприяння конкурентоспроможності осіб на ринку праці шляхом надання комплексу профорієнтаційних послуг з використанням інноваційних форм роботи | D40: Протягом року | E40: Міський центр зайнятості | F40: =SUM(H40:P40) -> 0 | H40: 0 | J40: 0 | L40: 0 | N40: 0 | P40: 0 | R40: Охоплено профорієнтаційними послугами | S40: 250
...

Sheet Фінансове забезпечення
B2: 3. ДЖЕРЕЛА ТА ОБСЯГИ ФІНАНСУВАННЯ ПРОГРАМИ У 2025 РОЦІ
B3: 3.1 Фінансове забезпечення заходів Програми
N4: тис. грн.
A6: № розділу | B6: Напрями реалізації заходів | C6: Кількість заходів | D6: Витрати на реалізацію
D7: Всього | F7: у тому числі за рахунок коштів:
F8: Державного бюджету | H8: місцевих бюджетів | L8: підприємств | N8: інших джерел
H9: обласного бюджету | J9: бюджету територіальної громади
D10: ПЛАН | E10: ФАКТ | F10: ПЛАН | G10: ФАКТ | H10: ПЛАН | I10: ФАКТ | J10: ПЛАН | K10: ФАКТ | L10: ПЛАН | M10: ФАКТ | N10: ПЛАН | O10: ФАКТ
B11: 1 | C11: 2 | D11: 3 | E11: 4 | F11: 5 | G11: 6 | H11: 7 | I11: 8 | J11: 9 | K11: 10 | L11: 11 | M11: 12 | N11: 13 | O11: 14
A12: .2.1 | B12: Агропромисловий комплекс | C12: 3 | D12: =заходи!F14 -> 0 | F12: =SUM(заходи!H14) -> 0 | H12: =заходи!J14 -> 0 | J12: =заходи!L14 -> 0 | L12: =заходи!N14 -> 0 | N12: =заходи!P14 -> 0
A13: .2.2 | B13: Розвиток земельних відносин | C13: 2 | D13: =заходи!F18 -> 200 | E13: =заходи!G18 -> 80 | F13: =заходи!H18 -> 0 | H13: =заходи!J18 -> 0 | J13: =заходи!L18 -> 100 | K13: =заходи!M18 -> 20 | L13: =заходи!N18 -> 0 | N13: =заходи!P18 -> 100 | O13: =заходи!Q18 -> 60
A14: .2.3 | B14: Інвестиційна діяльність та розвиток інфраструктури | C14: 6 | D14: =заходи!F26 -> 289.1 | E14: =заходи!G26 -> 261 | F14: =заходи!H26 -> 0 | H14: =заходи!J26 -> 0 | J14: =заходи!L26 -> 289.1 | K14: =заходи!M26 -> 261 | L14: =заходи!N26 -> 0 | N14: =заходи!P26 -> 0
A15: .2.4 | B15: Розвиток інформаційного простору. Забезпечення доступу до неупереджених джерел інформації | C15: 5 | D15: =заходи!F33 -> 10 | F15: =заходи!H33 -> 0 | H15: =заходи!J33 -> 0 | J15: =заходи!L33 -> 10 | L15: =заходи!N33 -> 0 | N15: =заходи!P33 -> 0
A16: .2.5 | B16: Ринок праці. Зайнятість населення | C16: 13 | D16: =заходи!F34 -> 0 | F16: =заходи!H34 -> 0 | H16: =заходи!J34 -> 0 | J16: =заходи!L34 -> 0 | L16: =заходи!N34 -> 0 | N16: =заходи!P34 -> 0
A17: .2.6. | B17: Дорожньо-транспортний комплекс | C17: 2 | D17: =заходи!F53 -> 13200 | E17: =заходи!G53 -> 6937.097 | F17: =заходи!H53 -> 0 | H17: =заходи!J53 -> 11200 | I17: =заходи!K53 -> 0 | J17: =заходи!L53 -> 2000 | K17: =заходи!M53 -> 6937.097 | L17: =заходи!N53 -> 0 | N17: =заходи!P53 -> 0
A18: .2.7. | B18: Освіта | C18: 12 | D18: =заходи!F68 -> 3004 | E18: =заходи!G68 -> 1335.3 | F18: =заходи!H68 -> 0 | H18: =заходи!J68 -> 0 | J18: =заходи!L68 -> 3004 | K18: =заходи!M68 -> 1335.3 | L18: =заходи!N68 -> 0 | N18: =заходи!P68 -> 0
A19: .2.8. | B19: Підтримка сім'ї, дітей та молоді | C19: 20 | D19: =заходи!F90 -> 30 | F19: =заходи!H90 -> 0 | H19: =заходи!J90 -> 0 | J19: =заходи!L90 -> 29 | L19: =заходи!N90 -> 0 | N19: =заходи!P90 -> 1
A20: .2.9. | B20: Охорона здоров'я | C20: 22 | D20: =заходи!F114 -> 3122.75 | E20: =заходи!G114 -> 2192.704 | F20: =заходи!H114 -> 0 | H20: =заходи!J114 -> 0 | J20: =заходи!L114 -> 3122.75 | K20: =заходи!M114 -> 2192.704 | L20: =заходи!N114 -> 0 | N20: =заходи!P114 -> 0
A21: .2.10 | B21: Фізичне виховання та спорт | C21: 2 | D21: =заходи!F118 -> 0 | F21: =заходи!H118 -> 0 | H21: =заходи!J118 -> 0 | J21: =заходи!L118 -> 0 | L21: =заходи!N118 -> 0 | N21: =заходи!P118 -> 0
A22: .2.11. | B22: Культура і туризм | C22: 9 | D22: =заходи!F129 -> 990 | E22: =заходи!G129 -> 165.745 | F22: =заходи!H129 -> 0 | H22: =заходи!J129 -> 0 | J22: =заходи!L129 -> 990 | K22: =заходи!M129 -> 140.8 | L22: =заходи!N129 -> 0 | N22: =заходи!P129 -> 0 | O22: =заходи!Q129 -> 24.945
A23: .2.12. | B23: Захист населення і території від надзвичайних ситуацій | C23: 20 | D23: =заходи!F153 -> 12861.5 | E23: =заходи!G153 -> 3403.33 | F23: =заходи!H153 -> 0 | H23: =заходи!J153 -> 0 | J23: =заходи!L153 -> 12861.5 | K23: =заходи!M153 -> 3403.33 | L23: =заходи!N153 -> 0 | N23: =заходи!P153 -> 0
A24: .2.13. | B24: Соціальний захист населення | C24: 17 | D24: =заходи!F185 -> 4970.6 | E24: =заходи!G185 -> 4013.717 | F24: =заходи!H185 -> 0 | H24: =заходи!J185 -> 0 | I24: =заходи!K185 -> 167.883 | J24: =заходи!L185 -> 4970.6 | K24: =заходи!M185 -> 3845.834 | L24: =заходи!N185 -> 0 | N24: =заходи!P185 -> 0
A25: .2.14. | B25: Житлове господарство та комунальна інфраструктура | C25: 23 | D25: =заходи!F210 -> 31420.109 | E25: =заходи!G210 -> 24571.232 | F25: =заходи!H210 -> 0 | H25: =заходи!J210 -> 0 | J25: =заходи!L210 -> 28825.452 | K25: =заходи!M210 -> 24571.232 | L25: =заходи!N210 -> 0 | N25: =заходи!P210 -> 2594.657
A26: .2.15. | B26: Заходи, пов’язані з наслідками військової агресії Російської Федерації проти України на території Донецької області. Підтримка внутрішньо переміщених осіб | C26: 14 | D26: =заходи!F236 -> 3557.103 | E26: =заходи!G236 -> 1471.143 | F26: =заходи!H236 -> 0 | H26: =заходи!J236 -> 0 | I26: =заходи!K236 -> 20 | J26: =заходи!L236 -> 3557.103 | K26: =заходи!M236 -> 1451.143 | L26: =заходи!N236 -> 0 | N26: =заходи!P236 -> 0
A27: .2.16. | B27: Впровадження заходів територіального планування | C27: 2 | D27: =заходи!F240 -> 70 | E27: =заходи!G237 -> 0 | F27: =заходи!H240 -> 0 | H27: =заходи!J240 -> 0 | J27: =заходи!L240 -> 70 | L27: =заходи!N240 -> 0 | N27: =заходи!P240 -> 0
A28: .2.17. | B28: Охорона навколишнього природного середовища | C28: 2 | D28: =заходи!F245 -> 8946.41 | E28: =заходи!G245 -> 6299.82 | F28: =заходи!H245 -> 0 | H28: =заходи!J245 -> 5920.71 | J28: =заходи!L245 -> 2925.7 | K28: =заходи!M244 -> 6299.82 | L28: =заходи!N245 -> 0 | N28: =заходи!P245 -> 100
B29: РАЗОМ | C29: =SUM(C12:C28) -> 174 | D29: =SUM(D12:D28) -> 82671.572 | E29: =SUM(E12:E28) -> 50731.088 | F29: =SUM(F12:F28) -> 0 | G29: =SUM(G12:G28) -> 0 | H29: =SUM(H12:H28) -> 17120.71 | I29: =SUM(I12:I28) -> 187.883 | J29: =SUM(J12:J28) -> 62755.205 | ... O29: =SUM(O12:O28) -> 84.945
